BEGIN:VCALENDAR
VERSION:2.0
PRODID:-// - ECPv6.15.16//NONSGML v1.0//EN
CALSCALE:GREGORIAN
METHOD:PUBLISH
X-ORIGINAL-URL:https://lafc.ch
X-WR-CALDESC:Évènements pour 
REFRESH-INTERVAL;VALUE=DURATION:PT1H
X-Robots-Tag:noindex
X-PUBLISHED-TTL:PT1H
BEGIN:VTIMEZONE
TZID:Europe/Paris
BEGIN:DAYLIGHT
TZOFFSETFROM:+0100
TZOFFSETTO:+0200
TZNAME:CEST
DTSTART:20230326T010000
END:DAYLIGHT
BEGIN:STANDARD
TZOFFSETFROM:+0200
TZOFFSETTO:+0100
TZNAME:CET
DTSTART:20231029T010000
END:STANDARD
BEGIN:DAYLIGHT
TZOFFSETFROM:+0100
TZOFFSETTO:+0200
TZNAME:CEST
DTSTART:20240331T010000
END:DAYLIGHT
BEGIN:STANDARD
TZOFFSETFROM:+0200
TZOFFSETTO:+0100
TZNAME:CET
DTSTART:20241027T010000
END:STANDARD
BEGIN:DAYLIGHT
TZOFFSETFROM:+0100
TZOFFSETTO:+0200
TZNAME:CEST
DTSTART:20250330T010000
END:DAYLIGHT
BEGIN:STANDARD
TZOFFSETFROM:+0200
TZOFFSETTO:+0100
TZNAME:CET
DTSTART:20251026T010000
END:STANDARD
END:VTIMEZONE
BEGIN:VEVENT
DTSTART;TZID=Europe/Paris:20241202T093000
DTEND;TZID=Europe/Paris:20241202T123000
DTSTAMP:20260420T113058
CREATED:20240818T104912Z
LAST-MODIFIED:20240818T122743Z
UID:2060-1733131800-1733142600@lafc.ch
SUMMARY:TP\, LAUSANNE / Corps action / Guillaumarc Froidevaux & Zuzana Kakalíková
DESCRIPTION:Guillaumarc Froidevaux & Zuzana Kakalíková
URL:https://lafc.ch/event/corps-action-2-2-2-2/
LOCATION:Studio 5bis – Les Compagnies Vaudoises\, Chemin de la Colline 5bis\, Lausanne\, 1007
CATEGORIES:Lausanne
END:VEVENT
BEGIN:VEVENT
DTSTART;TZID=Europe/Paris:20241125T093000
DTEND;TZID=Europe/Paris:20241125T123000
DTSTAMP:20260420T113058
CREATED:20240818T105115Z
LAST-MODIFIED:20240818T122737Z
UID:2062-1732527000-1732537800@lafc.ch
SUMMARY:TP\, LAUSANNE / Corps action / Guillaumarc Froidevaux & Zuzana Kakalíková
DESCRIPTION:Guillaumarc Froidevaux & Zuzana Kakalíková
URL:https://lafc.ch/event/corps-action-2-2-2/
LOCATION:Studio 5bis – Les Compagnies Vaudoises\, Chemin de la Colline 5bis\, Lausanne\, 1007
CATEGORIES:Lausanne
END:VEVENT
BEGIN:VEVENT
DTSTART;TZID=Europe/Paris:20241118T093000
DTEND;TZID=Europe/Paris:20241118T123000
DTSTAMP:20260420T113058
CREATED:20240818T120255Z
LAST-MODIFIED:20240818T122731Z
UID:2095-1731922200-1731933000@lafc.ch
SUMMARY:TP\, LAUSANNE / Joies et galères du rapport au réel / Lola Giouse
DESCRIPTION:Lola Giouse
URL:https://lafc.ch/event/corps-action-3-4/
LOCATION:Studio 5bis – Les Compagnies Vaudoises\, Chemin de la Colline 5bis\, Lausanne\, 1007
CATEGORIES:Lausanne,TP
END:VEVENT
BEGIN:VEVENT
DTSTART;TZID=Europe/Paris:20241111T093000
DTEND;TZID=Europe/Paris:20241111T123000
DTSTAMP:20260420T113058
CREATED:20240818T120226Z
LAST-MODIFIED:20240818T122724Z
UID:2094-1731317400-1731328200@lafc.ch
SUMMARY:TP\, LAUSANNE / Joies et galères du rapport au réel / Lola Giouse
DESCRIPTION:Lola Giouse
URL:https://lafc.ch/event/corps-action-3-2-3/
LOCATION:Studio 5bis – Les Compagnies Vaudoises\, Chemin de la Colline 5bis\, Lausanne\, 1007
CATEGORIES:Lausanne,TP
END:VEVENT
BEGIN:VEVENT
DTSTART;TZID=Europe/Paris:20241104T093000
DTEND;TZID=Europe/Paris:20241104T123000
DTSTAMP:20260420T113058
CREATED:20240818T120135Z
LAST-MODIFIED:20240818T122716Z
UID:2091-1730712600-1730723400@lafc.ch
SUMMARY:TP\, LAUSANNE / Joies et galères du rapport au réel / Lola Giouse
DESCRIPTION:Lola Giouse
URL:https://lafc.ch/event/corps-action-3-3/
LOCATION:Studio 5bis – Les Compagnies Vaudoises\, Chemin de la Colline 5bis\, Lausanne\, 1007
CATEGORIES:Lausanne,TP
END:VEVENT
BEGIN:VEVENT
DTSTART;TZID=Europe/Paris:20241028T093000
DTEND;TZID=Europe/Paris:20241028T123000
DTSTAMP:20260420T113058
CREATED:20240818T120103Z
LAST-MODIFIED:20240818T122707Z
UID:2090-1730107800-1730118600@lafc.ch
SUMMARY:TP\, LAUSANNE / Joies et galères du rapport au réel / Lola Giouse
DESCRIPTION:Lola Giouse
URL:https://lafc.ch/event/corps-action-3-2-2/
LOCATION:Studio 5bis – Les Compagnies Vaudoises\, Chemin de la Colline 5bis\, Lausanne\, 1007
CATEGORIES:Lausanne,TP
END:VEVENT
BEGIN:VEVENT
DTSTART;TZID=Europe/Paris:20241021T093000
DTEND;TZID=Europe/Paris:20241021T123000
DTSTAMP:20260420T113058
CREATED:20240818T120021Z
LAST-MODIFIED:20240818T122700Z
UID:2088-1729503000-1729513800@lafc.ch
SUMMARY:TP\, LAUSANNE / Joies et galères du rapport au réel / Lola Giouse
DESCRIPTION:Lola Giouse
URL:https://lafc.ch/event/corps-action-3-2/
LOCATION:Studio 5bis – Les Compagnies Vaudoises\, Chemin de la Colline 5bis\, Lausanne\, 1007
CATEGORIES:Lausanne,TP
END:VEVENT
BEGIN:VEVENT
DTSTART;TZID=Europe/Paris:20241014T093000
DTEND;TZID=Europe/Paris:20241014T123000
DTSTAMP:20260420T113058
CREATED:20240818T115934Z
LAST-MODIFIED:20240818T122651Z
UID:2086-1728898200-1728909000@lafc.ch
SUMMARY:TP\, LAUSANNE / Joies et galères du rapport au réel / Lola Giouse
DESCRIPTION:Lola Giouse
URL:https://lafc.ch/event/corps-action-3/
LOCATION:Studio 5bis – Les Compagnies Vaudoises\, Chemin de la Colline 5bis\, Lausanne\, 1007
CATEGORIES:Lausanne,TP
END:VEVENT
BEGIN:VEVENT
DTSTART;TZID=Europe/Paris:20241007T093000
DTEND;TZID=Europe/Paris:20241007T123000
DTSTAMP:20260420T113058
CREATED:20240818T104755Z
LAST-MODIFIED:20240818T122643Z
UID:2054-1728293400-1728304200@lafc.ch
SUMMARY:TP\, LAUSANNE / Corps action / Guillaumarc Froidevaux & Zuzana Kakalíková
DESCRIPTION:Guillaumarc Froidevaux & Zuzana Kakalíková
URL:https://lafc.ch/event/corps-action-2-2/
LOCATION:Studio 5bis – Les Compagnies Vaudoises\, Chemin de la Colline 5bis\, Lausanne\, 1007
CATEGORIES:Lausanne
END:VEVENT
BEGIN:VEVENT
DTSTART;TZID=Europe/Paris:20240923T093000
DTEND;TZID=Europe/Paris:20240923T123000
DTSTAMP:20260420T113058
CREATED:20240816T073000Z
LAST-MODIFIED:20240818T122616Z
UID:1066-1727083800-1727094600@lafc.ch
SUMMARY:TP\, LAUSANNE / Corps action / Guillaumarc Froidevaux & Zuzana Kakalíková
DESCRIPTION:Guillaumarc Froidevaux & Zuzana Kakalíková
URL:https://lafc.ch/event/corps-action/
LOCATION:Studio 5bis – Les Compagnies Vaudoises\, Chemin de la Colline 5bis\, Lausanne\, 1007
CATEGORIES:Lausanne
END:VEVENT
END:VCALENDAR